BEGIN:VCALENDAR
VERSION:2.0
PRODID:-//Players Circle Theater - ECPv6.15.20//NONSGML v1.0//EN
CALSCALE:GREGORIAN
METHOD:PUBLISH
X-ORIGINAL-URL:https://playerscircletheater.com
X-WR-CALDESC:Events for Players Circle Theater
REFRESH-INTERVAL;VALUE=DURATION:PT1H
X-Robots-Tag:noindex
X-PUBLISHED-TTL:PT1H
BEGIN:VTIMEZONE
TZID:America/New_York
BEGIN:DAYLIGHT
TZOFFSETFROM:-0500
TZOFFSETTO:-0400
TZNAME:EDT
DTSTART:20230312T070000
END:DAYLIGHT
BEGIN:STANDARD
TZOFFSETFROM:-0400
TZOFFSETTO:-0500
TZNAME:EST
DTSTART:20231105T060000
END:STANDARD
BEGIN:DAYLIGHT
TZOFFSETFROM:-0500
TZOFFSETTO:-0400
TZNAME:EDT
DTSTART:20240310T070000
END:DAYLIGHT
BEGIN:STANDARD
TZOFFSETFROM:-0400
TZOFFSETTO:-0500
TZNAME:EST
DTSTART:20241103T060000
END:STANDARD
BEGIN:DAYLIGHT
TZOFFSETFROM:-0500
TZOFFSETTO:-0400
TZNAME:EDT
DTSTART:20250309T070000
END:DAYLIGHT
BEGIN:STANDARD
TZOFFSETFROM:-0400
TZOFFSETTO:-0500
TZNAME:EST
DTSTART:20251102T060000
END:STANDARD
END:VTIMEZONE
BEGIN:VEVENT
DTSTART;TZID=America/New_York:20240508T193000
DTEND;TZID=America/New_York:20240508T210000
DTSTAMP:20260420T134602
CREATED:20230518T042405Z
LAST-MODIFIED:20240418T161621Z
UID:10000988-1715196600-1715202000@playerscircletheater.com
SUMMARY:Godspell
DESCRIPTION:Godspell\nApril 16 thru May 12\, 2024 Sorry\, your browser doesn't support embedded videos.An Immersive Rock Musical!\nBook by John-Michael Tebelak. \n\n\n\nLet us raise your spirits with this uplifting\, hilarious and heartwarming musical retelling of the parables of St. Matthew. Featuring the hit song\, Day by Day. \n\n\n\n\nShow Dates: Tuesdays thru Saturdays at 7:30pm. Saturday & Sunday at 3pm. \nSee Available Show Dates\, Seats & Purchase TicketsSponsor: Dave & Cheryl Copham
URL:https://playerscircletheater.com/show/godspell/2024-05-08/
LOCATION:Players Circle Theater\, 13211 McGregor Blvd.\, Fort Myers\, FL\, 33919
CATEGORIES:2023-2024 Season,Godspell
ATTACH;FMTTYPE=image/jpeg:https://playerscircletheater.com/wp-content/uploads/godspell-rock-musical-show-players-circle-theater-1.jpg
ORGANIZER;CN="Players Circle Theater":MAILTO:Info@PlayersCircle.org
GEO:26.7059963;81.8980809
X-APPLE-STRUCTURED-LOCATION;VALUE=URI;X-ADDRESS=Players Circle Theater 13211 McGregor Blvd. Fort Myers FL 33919;X-APPLE-RADIUS=500;X-TITLE=13211 McGregor Blvd.:geo:81.8980809,26.7059963
END:VEVENT
BEGIN:VEVENT
DTSTART;TZID=America/New_York:20240509T193000
DTEND;TZID=America/New_York:20240509T210000
DTSTAMP:20260420T134602
CREATED:20230518T042405Z
LAST-MODIFIED:20240418T161621Z
UID:10000989-1715283000-1715288400@playerscircletheater.com
SUMMARY:Godspell
DESCRIPTION:Godspell\nApril 16 thru May 12\, 2024 Sorry\, your browser doesn't support embedded videos.An Immersive Rock Musical!\nBook by John-Michael Tebelak. \n\n\n\nLet us raise your spirits with this uplifting\, hilarious and heartwarming musical retelling of the parables of St. Matthew. Featuring the hit song\, Day by Day. \n\n\n\n\nShow Dates: Tuesdays thru Saturdays at 7:30pm. Saturday & Sunday at 3pm. \nSee Available Show Dates\, Seats & Purchase TicketsSponsor: Dave & Cheryl Copham
URL:https://playerscircletheater.com/show/godspell/2024-05-09/
LOCATION:Players Circle Theater\, 13211 McGregor Blvd.\, Fort Myers\, FL\, 33919
CATEGORIES:2023-2024 Season,Godspell
ATTACH;FMTTYPE=image/jpeg:https://playerscircletheater.com/wp-content/uploads/godspell-rock-musical-show-players-circle-theater-1.jpg
ORGANIZER;CN="Players Circle Theater":MAILTO:Info@PlayersCircle.org
GEO:26.7059963;81.8980809
X-APPLE-STRUCTURED-LOCATION;VALUE=URI;X-ADDRESS=Players Circle Theater 13211 McGregor Blvd. Fort Myers FL 33919;X-APPLE-RADIUS=500;X-TITLE=13211 McGregor Blvd.:geo:81.8980809,26.7059963
END:VEVENT
BEGIN:VEVENT
DTSTART;TZID=America/New_York:20240510T193000
DTEND;TZID=America/New_York:20240510T210000
DTSTAMP:20260420T134602
CREATED:20230518T042405Z
LAST-MODIFIED:20240418T161621Z
UID:10000990-1715369400-1715374800@playerscircletheater.com
SUMMARY:Godspell
DESCRIPTION:Godspell\nApril 16 thru May 12\, 2024 Sorry\, your browser doesn't support embedded videos.An Immersive Rock Musical!\nBook by John-Michael Tebelak. \n\n\n\nLet us raise your spirits with this uplifting\, hilarious and heartwarming musical retelling of the parables of St. Matthew. Featuring the hit song\, Day by Day. \n\n\n\n\nShow Dates: Tuesdays thru Saturdays at 7:30pm. Saturday & Sunday at 3pm. \nSee Available Show Dates\, Seats & Purchase TicketsSponsor: Dave & Cheryl Copham
URL:https://playerscircletheater.com/show/godspell/2024-05-10/
LOCATION:Players Circle Theater\, 13211 McGregor Blvd.\, Fort Myers\, FL\, 33919
CATEGORIES:2023-2024 Season,Godspell
ATTACH;FMTTYPE=image/jpeg:https://playerscircletheater.com/wp-content/uploads/godspell-rock-musical-show-players-circle-theater-1.jpg
ORGANIZER;CN="Players Circle Theater":MAILTO:Info@PlayersCircle.org
GEO:26.7059963;81.8980809
X-APPLE-STRUCTURED-LOCATION;VALUE=URI;X-ADDRESS=Players Circle Theater 13211 McGregor Blvd. Fort Myers FL 33919;X-APPLE-RADIUS=500;X-TITLE=13211 McGregor Blvd.:geo:81.8980809,26.7059963
END:VEVENT
BEGIN:VEVENT
DTSTART;TZID=America/New_York:20240511T150000
DTEND;TZID=America/New_York:20240511T163000
DTSTAMP:20260420T134602
CREATED:20240429T174534Z
LAST-MODIFIED:20240429T174534Z
UID:10005764-1715439600-1715445000@playerscircletheater.com
SUMMARY:Godspell
DESCRIPTION:Godspell\nApril 16 thru May 12\, 2024 Sorry\, your browser doesn't support embedded videos.An Immersive Rock Musical!\nBook by John-Michael Tebelak. \n\n\n\nLet us raise your spirits with this uplifting\, hilarious and heartwarming musical retelling of the parables of St. Matthew. Featuring the hit song\, Day by Day. \n\n\n\n\nShow Dates: Tuesdays thru Saturdays at 7:30pm. Saturday & Sunday at 3pm. \nSee Available Show Dates\, Seats & Purchase TicketsSponsor: Dave & Cheryl Copham
URL:https://playerscircletheater.com/show/godspell-3/2024-05-11/
LOCATION:Players Circle Theater\, 13211 McGregor Blvd.\, Fort Myers\, FL\, 33919
CATEGORIES:2023-2024 Season,Godspell
ATTACH;FMTTYPE=image/jpeg:https://playerscircletheater.com/wp-content/uploads/godspell-rock-musical-show-players-circle-theater-1.jpg
ORGANIZER;CN="Players Circle Theater":MAILTO:Info@PlayersCircle.org
GEO:26.7059963;81.8980809
X-APPLE-STRUCTURED-LOCATION;VALUE=URI;X-ADDRESS=Players Circle Theater 13211 McGregor Blvd. Fort Myers FL 33919;X-APPLE-RADIUS=500;X-TITLE=13211 McGregor Blvd.:geo:81.8980809,26.7059963
END:VEVENT
BEGIN:VEVENT
DTSTART;TZID=America/New_York:20240511T193000
DTEND;TZID=America/New_York:20240511T210000
DTSTAMP:20260420T134602
CREATED:20230518T042405Z
LAST-MODIFIED:20240418T161621Z
UID:10000977-1715455800-1715461200@playerscircletheater.com
SUMMARY:Godspell
DESCRIPTION:Godspell\nApril 16 thru May 12\, 2024 Sorry\, your browser doesn't support embedded videos.An Immersive Rock Musical!\nBook by John-Michael Tebelak. \n\n\n\nLet us raise your spirits with this uplifting\, hilarious and heartwarming musical retelling of the parables of St. Matthew. Featuring the hit song\, Day by Day. \n\n\n\n\nShow Dates: Tuesdays thru Saturdays at 7:30pm. Saturday & Sunday at 3pm. \nSee Available Show Dates\, Seats & Purchase TicketsSponsor: Dave & Cheryl Copham
URL:https://playerscircletheater.com/show/godspell/2024-05-11/
LOCATION:Players Circle Theater\, 13211 McGregor Blvd.\, Fort Myers\, FL\, 33919
CATEGORIES:2023-2024 Season,Godspell
ATTACH;FMTTYPE=image/jpeg:https://playerscircletheater.com/wp-content/uploads/godspell-rock-musical-show-players-circle-theater-1.jpg
ORGANIZER;CN="Players Circle Theater":MAILTO:Info@PlayersCircle.org
GEO:26.7059963;81.8980809
X-APPLE-STRUCTURED-LOCATION;VALUE=URI;X-ADDRESS=Players Circle Theater 13211 McGregor Blvd. Fort Myers FL 33919;X-APPLE-RADIUS=500;X-TITLE=13211 McGregor Blvd.:geo:81.8980809,26.7059963
END:VEVENT
BEGIN:VEVENT
DTSTART;TZID=America/New_York:20240512T150000
DTEND;TZID=America/New_York:20240512T170000
DTSTAMP:20260420T134602
CREATED:20230518T042405Z
LAST-MODIFIED:20240418T161621Z
UID:10000978-1715526000-1715533200@playerscircletheater.com
SUMMARY:Godspell
DESCRIPTION:Godspell\nApril 16 thru May 12\, 2024 Sorry\, your browser doesn't support embedded videos.An Immersive Rock Musical!\nBook by John-Michael Tebelak. \n\n\n\nLet us raise your spirits with this uplifting\, hilarious and heartwarming musical retelling of the parables of St. Matthew. Featuring the hit song\, Day by Day. \n\n\n\n\nShow Dates: Tuesdays thru Saturdays at 7:30pm. Saturday & Sunday at 3pm. \nSee Available Show Dates\, Seats & Purchase TicketsSponsor: Dave & Cheryl Copham
URL:https://playerscircletheater.com/show/godspell/2024-05-12/
LOCATION:Players Circle Theater\, 13211 McGregor Blvd.\, Fort Myers\, FL\, 33919
CATEGORIES:2023-2024 Season,Godspell
ATTACH;FMTTYPE=image/jpeg:https://playerscircletheater.com/wp-content/uploads/godspell-rock-musical-show-players-circle-theater-1.jpg
ORGANIZER;CN="Players Circle Theater":MAILTO:Info@PlayersCircle.org
GEO:26.7059963;81.8980809
X-APPLE-STRUCTURED-LOCATION;VALUE=URI;X-ADDRESS=Players Circle Theater 13211 McGregor Blvd. Fort Myers FL 33919;X-APPLE-RADIUS=500;X-TITLE=13211 McGregor Blvd.:geo:81.8980809,26.7059963
END:VEVENT
END:VCALENDAR